BEGIN:VCALENDAR
VERSION:2.0
PRODID:-//Hayat Production - ECPv6.15.20//NONSGML v1.0//EN
CALSCALE:GREGORIAN
METHOD:PUBLISH
X-WR-CALNAME:Hayat Production
X-ORIGINAL-URL:https://hayatproduction.ba
X-WR-CALDESC:Events for Hayat Production
REFRESH-INTERVAL;VALUE=DURATION:PT1H
X-Robots-Tag:noindex
X-PUBLISHED-TTL:PT1H
BEGIN:VTIMEZONE
TZID:UTC
BEGIN:STANDARD
TZOFFSETFROM:+0000
TZOFFSETTO:+0000
TZNAME:UTC
DTSTART:20190101T000000
END:STANDARD
END:VTIMEZONE
BEGIN:VEVENT
DTSTART;VALUE=DATE:20200808
DTEND;VALUE=DATE:20200809
DTSTAMP:20260422T182719
CREATED:20200804T112135Z
LAST-MODIFIED:20200804T112215Z
UID:2084-1596844800-1596931199@hayatproduction.ba
SUMMARY:Šaćir Ameti- Pivnica Libertas
DESCRIPTION:
URL:https://hayatproduction.ba/dogadjaj/sacir-ameti/
LOCATION:Pivnica Libertas\, Školska 10\, Zenica\, Bosnia and Herzegovina
ATTACH;FMTTYPE=image/jpeg:https://hayatproduction.ba/wp-content/uploads/2020/07/ameti-intervju1-e1555667506369.jpg
END:VEVENT
BEGIN:VEVENT
DTSTART;VALUE=DATE:20200731
DTEND;VALUE=DATE:20200801
DTSTAMP:20260422T182719
CREATED:20200723T074222Z
LAST-MODIFIED:20200723T074222Z
UID:1950-1596153600-1596239999@hayatproduction.ba
SUMMARY:Jasmin Burek- Hotel IUT
DESCRIPTION:
URL:https://hayatproduction.ba/dogadjaj/jasmin-burek-hotel-iut/
LOCATION:Hotel IUT\, Aleja Konzula bb\, Travnik 72270\, Travnik
ATTACH;FMTTYPE=image/jpeg:https://hayatproduction.ba/wp-content/uploads/2020/07/110172672_662491851276300_6736678015061813049_n.jpg
END:VEVENT
BEGIN:VEVENT
DTSTART;VALUE=DATE:20200726
DTEND;VALUE=DATE:20200727
DTSTAMP:20260422T182719
CREATED:20200723T074055Z
LAST-MODIFIED:20200723T074055Z
UID:1946-1595721600-1595807999@hayatproduction.ba
SUMMARY:Jasmin Burek- Gradski trg Šipovo
DESCRIPTION:
URL:https://hayatproduction.ba/dogadjaj/jasmin-burek-gradski-trg-sipovo/
LOCATION:Gradski trg Šipovo\, Šipovo\, Bosnia and Herzegovina
ATTACH;FMTTYPE=image/jpeg:https://hayatproduction.ba/wp-content/uploads/2020/07/110172672_662491851276300_6736678015061813049_n.jpg
END:VEVENT
BEGIN:VEVENT
DTSTART;VALUE=DATE:20200724
DTEND;VALUE=DATE:20200725
DTSTAMP:20260422T182719
CREATED:20200723T104946Z
LAST-MODIFIED:20200723T104946Z
UID:1977-1595548800-1595635199@hayatproduction.ba
SUMMARY:Šaćir Ameti- Vrbas
DESCRIPTION:
URL:https://hayatproduction.ba/dogadjaj/sacir-ameti-vrbas/
LOCATION:Vrbas\, 14 SEPTEMBAR Donji Vakuf 70220\, Donji Vakuf\, Bosnia and Herzegovina
ATTACH;FMTTYPE=image/jpeg:https://hayatproduction.ba/wp-content/uploads/2020/07/ameti-intervju1-e1555667506369.jpg
END:VEVENT
BEGIN:VEVENT
DTSTART;VALUE=DATE:20200724
DTEND;VALUE=DATE:20200725
DTSTAMP:20260422T182719
CREATED:20200723T104442Z
LAST-MODIFIED:20200723T104442Z
UID:1973-1595548800-1595635199@hayatproduction.ba
SUMMARY:Ruža Efendić- Restoran Diana
DESCRIPTION:
URL:https://hayatproduction.ba/dogadjaj/ruza-efendic-restoran-diana/
LOCATION:Restoran Diana\, Ilijaš\, Bosnia and Herzegovina
ATTACH;FMTTYPE=image/jpeg:https://hayatproduction.ba/wp-content/uploads/2020/07/Ruza-efendic-slika.jpg
END:VEVENT
BEGIN:VEVENT
DTSTART;VALUE=DATE:20200724
DTEND;VALUE=DATE:20200725
DTSTAMP:20260422T182719
CREATED:20200723T073922Z
LAST-MODIFIED:20200723T073922Z
UID:1942-1595548800-1595635199@hayatproduction.ba
SUMMARY:Jasmin Burek- Caffe Bar Retro
DESCRIPTION:
URL:https://hayatproduction.ba/dogadjaj/jasmin-burek-caffe-bar-retro/
LOCATION:Caffe Bar Retro\, Zenjak\, Travnik\, Travnik\, Bosnia and Herzegovina
ATTACH;FMTTYPE=image/jpeg:https://hayatproduction.ba/wp-content/uploads/2020/07/110172672_662491851276300_6736678015061813049_n.jpg
END:VEVENT
BEGIN:VEVENT
DTSTART;VALUE=DATE:20200723
DTEND;VALUE=DATE:20200724
DTSTAMP:20260422T182719
CREATED:20200723T073653Z
LAST-MODIFIED:20200723T073723Z
UID:1936-1595462400-1595548799@hayatproduction.ba
SUMMARY:Jasmin Burek- The Cave Pub
DESCRIPTION:
URL:https://hayatproduction.ba/dogadjaj/unplugged-svirka/
LOCATION:The Cave\, Šehida\, Travnik 72270\, Travnik\, Bosnia and Herzegovina
ATTACH;FMTTYPE=image/jpeg:https://hayatproduction.ba/wp-content/uploads/2020/07/110172672_662491851276300_6736678015061813049_n.jpg
END:VEVENT
END:VCALENDAR